BEGIN:VCALENDAR
VERSION:2.0
PRODID:EVENTFROG//EVENT//ICAL
BEGIN:VEVENT
UID:20260422T204743Z-7452254600982186017@eventfrog.at
DTSTAMP:20260422T204743Z
DTSTART:20260905T070000Z
DTEND:20260907T150000Z
SUMMARY:Yoga & Ernährung - 25h-Yoga-Weiterbildung
DESCRIPTION:Vom 5.-7.9.2026 lernen Yogalehrende in 25 Std., wie Ernährung die Yogapraxis ergänzt und zu ganzheitlichem Wohlbefinden beiträgt.\n\nhttps://eventfrog.at/de/p/sport-fitness/yoga/yoga-ernaehrung-25h-yoga-weiterbildung-7452254600982186017.html
LOCATION:Yoga Labor Berlin
GEO:52.462984;13.509339
URL:https://eventfrog.at/de/p/sport-fitness/yoga/yoga-ernaehrung-25h-yoga-weiterbildung-7452254600982186017.html
END:VEVENT
END:VCALENDAR