BEGIN:VCALENDAR
VERSION:2.0
PRODID:EVENTFROG//EVENT//ICAL
BEGIN:VEVENT
UID:20260421T161708Z-7452252631081172878@eventfrog.at
DTSTAMP:20260421T161708Z
DTSTART:20260527T144500Z
DTEND:20260527T154500Z
SUMMARY:Judo to Job: Science-Based Behavior Evaluation
DESCRIPTION:The workshop presents the science-based ERE for measuring work readiness through behaviour to improve training and job matching.\n\nhttps://eventfrog.at/de/p/kurse-seminare/sonstige-kurse-seminare/judo-to-job-science-based-behavior-evaluation-7452252631081172878.html
LOCATION:Kap Europa, Frankfurt am Main, DE, auf der der Sport & Musik Bühne
GEO:50.109966;8.653981
URL:https://eventfrog.at/de/p/kurse-seminare/sonstige-kurse-seminare/judo-to-job-science-based-behavior-evaluation-7452252631081172878.html
END:VEVENT
END:VCALENDAR