BEGIN:VCALENDAR
VERSION:2.0
PRODID:EVENTFROG//EVENT//ICAL
BEGIN:VEVENT
UID:20260421T152205Z-7452252605751769783@eventfrog.at
DTSTAMP:20260421T152205Z
DTSTART:20260506T170000Z
DTEND:20260506T180000Z
SUMMARY:Selbsthypnose lernen - innere Ruhe finden
DESCRIPTION:Der Selbsthypnose-Kurs in Turgi zeigt, wie man Stress reduziert, Verspannungen löst und innere Ruhe findet.\n\nhttps://eventfrog.at/de/p/gesundheit-spiritualitaet/gesundheit-wohlbefinden/selbsthypnose-lernen-innere-ruhe-finden-7452252605751769783.html
LOCATION:Ganzheitspraxis Lebendig - Leben
GEO:47.475563;8.281503
URL:https://eventfrog.at/de/p/gesundheit-spiritualitaet/gesundheit-wohlbefinden/selbsthypnose-lernen-innere-ruhe-finden-7452252605751769783.html
END:VEVENT
END:VCALENDAR