BEGIN:VCALENDAR
VERSION:2.0
PRODID:EVENTFROG//EVENT//ICAL
BEGIN:VEVENT
UID:20260421T145954Z-7452250122195339561@eventfrog.at
DTSTAMP:20260421T145954Z
DTSTART:20260510T120000Z
SUMMARY:Eine faszinierende Dinosaurier-Reise in Tulln an der Donau
DESCRIPTION:Interaktive Live-Show im Dinosaurier Theater vermittelt in 90 Minuten Fachwissen mit realistischen Modellen.\n\nhttps://eventfrog.at/de/p/fuehrungen-vortraege/symposium/eine-faszinierende-dinosaurier-reise-in-tulln-an-der-donau-7452250122195339561.html
LOCATION:Atrium
GEO:48.332623;16.049549
URL:https://eventfrog.at/de/p/fuehrungen-vortraege/symposium/eine-faszinierende-dinosaurier-reise-in-tulln-an-der-donau-7452250122195339561.html
END:VEVENT
END:VCALENDAR