BEGIN:VCALENDAR
VERSION:2.0
PRODID:EVENTFROG//EVENT//ICAL
BEGIN:VEVENT
UID:20260424T102454Z-7452214785062489759@eventfrog.at
DTSTAMP:20260424T102454Z
DTSTART:20260514T083000Z
DTEND:20260514T113000Z
SUMMARY:Brunch an Auffahrt
DESCRIPTION:Feines hausgemachtes Brunch-Buffet\n\nhttps://eventfrog.at/de/p/essen-trinken/brunch-an-auffahrt-7452214785062489759.html
LOCATION:Schützenstübli Neuwilen - Beiz mit Reiz
GEO:47.626307;9.135466
URL:https://eventfrog.at/de/p/essen-trinken/brunch-an-auffahrt-7452214785062489759.html
END:VEVENT
END:VCALENDAR