BEGIN:VCALENDAR
VERSION:2.0
PRODID:EVENTFROG//EVENT//ICAL
BEGIN:VEVENT
UID:20260424T095904Z-7452115921387142152@eventfrog.at
DTSTAMP:20260424T095904Z
DTSTART:20260601T160000Z
SUMMARY:Das Beste
DESCRIPTION:Das Beste\n\nhttps://eventfrog.at/de/p/kunst-ausstellungen/das-beste-7452115921387142152.html
LOCATION:Stern-Apotheke
GEO:47.424604;9.379407
URL:https://eventfrog.at/de/p/kunst-ausstellungen/das-beste-7452115921387142152.html
END:VEVENT
END:VCALENDAR