BEGIN:VCALENDAR
VERSION:2.0
PRODID:EVENTFROG//EVENT//ICAL
BEGIN:VEVENT
UID:20260425T234728Z-7452115917507410913@eventfrog.at
DTSTAMP:20260425T234728Z
DTSTART:20260503T130000Z
SUMMARY:Dschungelbuch
DESCRIPTION:Mit Bagheera leise durch den Dschungel schleichen.\n\nhttps://eventfrog.at/de/p/theater-buehne/dschungelbuch-7452115917507410913.html
LOCATION:Storchen
GEO:47.427136;9.376076
URL:https://eventfrog.at/de/p/theater-buehne/dschungelbuch-7452115917507410913.html
END:VEVENT
END:VCALENDAR