BEGIN:VCALENDAR
VERSION:2.0
PRODID:EVENTFROG//EVENT//ICAL
BEGIN:VEVENT
UID:20260423T060853Z-7452114576399698773@eventfrog.at
DTSTAMP:20260423T060853Z
DTSTART:20260530T050000Z
SUMMARY:Flohmarkt St. Mangen-Quartier
DESCRIPTION:Der traditionelle Flohmarkt seit 1979.\n\nhttps://eventfrog.at/de/p/diverses/flohmarkt-st-mangen-quartier-7452114576399698773.html
LOCATION:St. Mangen Quartier
GEO:47.427234;9.376578
URL:https://eventfrog.at/de/p/diverses/flohmarkt-st-mangen-quartier-7452114576399698773.html
END:VEVENT
END:VCALENDAR