BEGIN:VCALENDAR
VERSION:2.0
PRODID:EVENTFROG//EVENT//ICAL
BEGIN:VEVENT
UID:20260424T072644Z-7452114387609875121@eventfrog.at
DTSTAMP:20260424T072644Z
DTSTART:20260510T080000Z
SUMMARY:Internationaler Museumstag
DESCRIPTION:Drop-in-Workshop, Mega-Flagge gestalten.\n\nhttps://eventfrog.at/de/p/diverses/internationaler-museumstag-7452114387609875121.html
LOCATION:Museum Henry Dunant
GEO:47.443376;9.531407
URL:https://eventfrog.at/de/p/diverses/internationaler-museumstag-7452114387609875121.html
END:VEVENT
END:VCALENDAR