BEGIN:VCALENDAR
VERSION:2.0
PRODID:EVENTFROG//EVENT//ICAL
BEGIN:VEVENT
UID:20260424T090258Z-7452113879625116647@eventfrog.at
DTSTAMP:20260424T090258Z
DTSTART:20260509T080000Z
SUMMARY:Gratis Comic Tag
DESCRIPTION:Einen von 22 Comics geschenkt erhalten.\n\nhttps://eventfrog.at/de/p/theater-buehne/gratis-comic-tag-7452113879625116647.html
LOCATION:Stadtbibliothek
GEO:47.415188;9.252704
URL:https://eventfrog.at/de/p/theater-buehne/gratis-comic-tag-7452113879625116647.html
END:VEVENT
END:VCALENDAR