BEGIN:VCALENDAR
VERSION:2.0
PRODID:EVENTFROG//EVENT//ICAL
BEGIN:VEVENT
UID:20260424T071543Z-7452113847278642523@eventfrog.at
DTSTAMP:20260424T071543Z
DTSTART:20260529T190000Z
DTEND:20260529T203000Z
SUMMARY:N.I.C.K. präsentiert: Staub
DESCRIPTION:Surf-Rock aus der Lettenbadi.\n\nhttps://eventfrog.at/de/p/konzerte/n-i-c-k-praesentiert-staub-7452113847278642523.html
LOCATION:Dä 3.Stock, Kultur hoch 3
GEO:47.382728;9.275600
URL:https://eventfrog.at/de/p/konzerte/n-i-c-k-praesentiert-staub-7452113847278642523.html
END:VEVENT
END:VCALENDAR