BEGIN:VCALENDAR
VERSION:2.0
PRODID:EVENTFROG//EVENT//ICAL
BEGIN:VEVENT
UID:20260424T054627Z-7452110885479267341@eventfrog.at
DTSTAMP:20260424T054627Z
DTSTART:20260517T080000Z
SUMMARY:Museumstag – Baden-Württemberg erzählt
DESCRIPTION:Konstenlose Führungen & Kinderquiz.\n\nhttps://eventfrog.at/de/p/wissenschaft-und-technik/museumstag-baden-wuerttemberg-erzaehlt-7452110885479267341.html
LOCATION:Dornier Museum
GEO:47.670555;9.517771
URL:https://eventfrog.at/de/p/wissenschaft-und-technik/museumstag-baden-wuerttemberg-erzaehlt-7452110885479267341.html
END:VEVENT
END:VCALENDAR