BEGIN:VCALENDAR
VERSION:2.0
PRODID:EVENTFROG//EVENT//ICAL
BEGIN:VEVENT
UID:20260424T101557Z-7452110735360922210@eventfrog.at
DTSTAMP:20260424T101557Z
DTSTART:20260531T073000Z
SUMMARY:Goofetheater
DESCRIPTION:Theater für Kinder.\n\nhttps://eventfrog.at/de/p/theater-buehne/goofetheater-7452110735360922210.html
LOCATION:Stuhlfabrik Herisau
GEO:47.387798;9.284961
URL:https://eventfrog.at/de/p/theater-buehne/goofetheater-7452110735360922210.html
END:VEVENT
END:VCALENDAR