BEGIN:VCALENDAR
VERSION:2.0
PRODID:EVENTFROG//EVENT//ICAL
BEGIN:VEVENT
UID:20260424T072652Z-7452110641450509642@eventfrog.at
DTSTAMP:20260424T072652Z
DTSTART:20260520T170000Z
SUMMARY:Abend in der Sternwarte
DESCRIPTION:Ein gemeinsamer Blick in die Sterne.\n\nhttps://eventfrog.at/de/p/wissenschaft-und-technik/abend-in-der-sternwarte-7452110641450509642.html
LOCATION:Planetarium | Bodensee
GEO:47.641511;9.159443
URL:https://eventfrog.at/de/p/wissenschaft-und-technik/abend-in-der-sternwarte-7452110641450509642.html
END:VEVENT
END:VCALENDAR