BEGIN:VCALENDAR
VERSION:2.0
PRODID:EVENTFROG//EVENT//ICAL
BEGIN:VEVENT
UID:20260421T053741Z-7452110615424851713@eventfrog.at
DTSTAMP:20260421T053741Z
DTSTART:20260531T120000Z
SUMMARY:Der kleine Komet
DESCRIPTION:Der Klassiker für die Kleinsten.\n\nhttps://eventfrog.at/de/p/wissenschaft-und-technik/der-kleine-komet-7452110615424851713.html
LOCATION:Planetarium | Bodensee
GEO:47.641511;9.159443
URL:https://eventfrog.at/de/p/wissenschaft-und-technik/der-kleine-komet-7452110615424851713.html
END:VEVENT
END:VCALENDAR