BEGIN:VCALENDAR
VERSION:2.0
PRODID:EVENTFROG//EVENT//ICAL
BEGIN:VEVENT
UID:20260421T053744Z-7452110615072530175@eventfrog.at
DTSTAMP:20260421T053744Z
DTSTART:20260510T120000Z
SUMMARY:Der kleine Komet
DESCRIPTION:Der Klassiker für die Kleinsten.\n\nhttps://eventfrog.at/de/p/wissenschaft-und-technik/der-kleine-komet-7452110615072530175.html
LOCATION:Planetarium | Bodensee
GEO:47.641511;9.159443
URL:https://eventfrog.at/de/p/wissenschaft-und-technik/der-kleine-komet-7452110615072530175.html
END:VEVENT
END:VCALENDAR