BEGIN:VCALENDAR
VERSION:2.0
PRODID:EVENTFROG//EVENT//ICAL
BEGIN:VEVENT
UID:20260424T072526Z-7452084281130651039@eventfrog.at
DTSTAMP:20260424T072526Z
DTSTART:20260619T173000Z
DTEND:20260619T193000Z
SUMMARY:Stand-Up Comedy @ Cafe RUMI Kilchberg
DESCRIPTION:Cafe Rumi in Kilchberg is happy to announce a stand up comedy show in English with light bites and drinks! All at your local neighbourhood cafe! \nDoors at 19:00!\n\n\nhttps://eventfrog.at/de/p/theater-buehne/comedy-kabarett/stand-up-comedy-cafe-rumi-kilchberg-7452084281130651039.html
LOCATION:Cafe Rumi
GEO:47.321746;8.547996
URL:https://eventfrog.at/de/p/theater-buehne/comedy-kabarett/stand-up-comedy-cafe-rumi-kilchberg-7452084281130651039.html
END:VEVENT
END:VCALENDAR