BEGIN:VCALENDAR
VERSION:2.0
PRODID:EVENTFROG//EVENT//ICAL
BEGIN:VEVENT
UID:20260424T045131Z-7452044898339930551@eventfrog.at
DTSTAMP:20260424T045131Z
DTSTART:20260429T180000Z
DTEND:20260429T200000Z
SUMMARY:My Comedy Hall
DESCRIPTION:My Comedy Hall vous invite à une soirée stand-up explosive Club. Entre énergie, authenticité et punchlines percutantes, ces artistes vous promettent un moment intense de rire et de partage\n\nhttps://eventfrog.at/fr/p/comedies-musicales-spectacles/spectacle/my-comedy-hall-7452044898339930551.html
LOCATION:Uptown Geneva
GEO:46.209307;6.139701
URL:https://eventfrog.at/fr/p/comedies-musicales-spectacles/spectacle/my-comedy-hall-7452044898339930551.html
END:VEVENT
END:VCALENDAR