BEGIN:VCALENDAR
VERSION:2.0
PRODID:EVENTFROG//EVENT//ICAL
BEGIN:VEVENT
UID:20260420T232811Z-7452034277351387970@eventfrog.at
DTSTAMP:20260420T232811Z
DTSTART:20260509T180000Z
DTEND:20260509T200000Z
SUMMARY:Vorträge mit Hans Peter Escher
DESCRIPTION:Vorträge zu buddhistischen Themen mit Hans Peter Escher\n\nhttps://eventfrog.at/de/p/religion-feiertage/sonstige-veranstaltungen/vortraege-mit-hans-peter-escher-7452034277351387970.html
LOCATION:Buddhistisches Zentrum Stuttgart der Karma Kagyü Linie e.V.
GEO:48.774375;9.182273
URL:https://eventfrog.at/de/p/religion-feiertage/sonstige-veranstaltungen/vortraege-mit-hans-peter-escher-7452034277351387970.html
END:VEVENT
END:VCALENDAR