BEGIN:VCALENDAR
VERSION:2.0
PRODID:EVENTFROG//EVENT//ICAL
BEGIN:VEVENT
UID:20260424T105041Z-7452024914226236985@eventfrog.at
DTSTAMP:20260424T105041Z
DTSTART:20260506T163000Z
DTEND:20260506T180000Z
SUMMARY:Blonay - Les Pléiades (Giron du Rhône #3)
DESCRIPTION:Courses en côte de 7.8 km à Blonay avec 585 m de dénivelé, départs à 18h30 (U13/U15) et 19h00 (autres).\n\nhttps://eventfrog.at/fr/p/sport-fitness/cyclisme/blonay-les-pleiades-giron-du-rhone-3-7452024914226236985.html
LOCATION:Rte de Tercier 19
GEO:46.463833;6.896103
URL:https://eventfrog.at/fr/p/sport-fitness/cyclisme/blonay-les-pleiades-giron-du-rhone-3-7452024914226236985.html
END:VEVENT
END:VCALENDAR