BEGIN:VCALENDAR
VERSION:2.0
PRODID:EVENTFROG//EVENT//ICAL
BEGIN:VEVENT
UID:20260424T072642Z-7452014618124227478@eventfrog.at
DTSTAMP:20260424T072642Z
DTSTART:20260522T183000Z
DTEND:20260522T193000Z
SUMMARY:Bachata Sensual Workshop mit Joe & Fenix
DESCRIPTION:Bachata Sensual Workshop mit Patrick & Marta (BachaSuave) gefolgt von Fiesta Pasión mit 3 Dance Floors, u.a. Bachata Floor. Workshop inklusive Party-Ticket.\n\nhttps://eventfrog.at/de/p/kurse-seminare/musik-tanz/bachata-sensual-workshop-mit-joe-fenix-7452014618124227478.html
LOCATION:Club Silbando
GEO:47.392000;8.514990
URL:https://eventfrog.at/de/p/kurse-seminare/musik-tanz/bachata-sensual-workshop-mit-joe-fenix-7452014618124227478.html
END:VEVENT
END:VCALENDAR