BEGIN:VCALENDAR
VERSION:2.0
PRODID:EVENTFROG//EVENT//ICAL
BEGIN:VEVENT
UID:20260424T090259Z-7452011002860727119@eventfrog.at
DTSTAMP:20260424T090259Z
DTSTART:20260502T160000Z
DTEND:20260502T200000Z
SUMMARY:ECSTATIC DANCE · TURUL ASCENT · AUTHENTIC MOVEMENT · SOUND
DESCRIPTION:A joyful, alcohol-free Ecstatic Dance journey with playful movement, uplifting music and a warm, inclusive community where you can dance freely and feel fully alive.\n\n\nhttps://eventfrog.at/en/p/miscellaneous/ecstatic-dance-turul-ascent-authentic-movement-sound-7452011002860727119.html
LOCATION:Rampe 70
GEO:47.394843;8.473886
URL:https://eventfrog.at/en/p/miscellaneous/ecstatic-dance-turul-ascent-authentic-movement-sound-7452011002860727119.html
END:VEVENT
END:VCALENDAR