BEGIN:VCALENDAR
VERSION:2.0
PRODID:EVENTFROG//EVENT//ICAL
BEGIN:VEVENT
UID:20260424T072714Z-7452007781882714476@eventfrog.at
DTSTAMP:20260424T072714Z
DTSTART:20260606T170000Z
DTEND:20260606T183000Z
SUMMARY:Schwiiz bis Broadway
DESCRIPTION:„euphonic" präsentiert ein vielfältiges A-cappella-Programm\n\nhttps://eventfrog.at/de/p/konzerte/a-cappella-vocal/schwiiz-bis-broadway-7452007781882714476.html
LOCATION:Evangelische Kirche Heerbrugg
GEO:47.413363;9.628223
URL:https://eventfrog.at/de/p/konzerte/a-cappella-vocal/schwiiz-bis-broadway-7452007781882714476.html
END:VEVENT
END:VCALENDAR