BEGIN:VCALENDAR
VERSION:2.0
PRODID:EVENTFROG//EVENT//ICAL
BEGIN:VEVENT
UID:20260424T080034Z-7452002134684395577@eventfrog.at
DTSTAMP:20260424T080034Z
DTSTART:20260911T160000Z
DTEND:20260911T200000Z
SUMMARY:Nacht der Sterne
DESCRIPTION:Zahlreiche Gemeinden im Kanton Bern nehmen an der Nacht der Sterne teil und Sensibilisieren zum bewussten Umgang mit künstlichem Licht.\n\nhttps://eventfrog.at/de/p/diverses/nacht-der-sterne-7452002134684395577.html
LOCATION:Stadt Thun
GEO:46.753521;7.622440
URL:https://eventfrog.at/de/p/diverses/nacht-der-sterne-7452002134684395577.html
END:VEVENT
END:VCALENDAR