BEGIN:VCALENDAR
VERSION:2.0
PRODID:EVENTFROG//EVENT//ICAL
BEGIN:VEVENT
UID:20260421T132345Z-7452000317611193529@eventfrog.at
DTSTAMP:20260421T132345Z
DTSTART:20260515T173000Z
DTEND:20260515T215500Z
SUMMARY:Tanztreff Milbertshofen
DESCRIPTION:Die monatliche Gesellschaftstanz-Party im Kulturhaus bietet von 19:30 bis 24:00 Uhr Musik zum Paartanzen für alle Tanzbegeisterten.\n\nhttps://eventfrog.at/de/p/partys/pop-rock/tanztreff-milbertshofen-7452000317611193529.html
LOCATION:Kulturhaus Milbertshofen
GEO:48.182056;11.567207
URL:https://eventfrog.at/de/p/partys/pop-rock/tanztreff-milbertshofen-7452000317611193529.html
END:VEVENT
END:VCALENDAR