BEGIN:VCALENDAR
VERSION:2.0
PRODID:EVENTFROG//EVENT//ICAL
BEGIN:VEVENT
UID:20260422T004858Z-7451998224452193659@eventfrog.at
DTSTAMP:20260422T004858Z
DTSTART:20261107T090000Z
DTEND:20261107T160000Z
SUMMARY:52. Internationale Mineralien-und Fossilienbörse in Bonn
DESCRIPTION:Mineralien- und Fossilienbörse, überregionales Angebot, mit Tombola (jedes Los gewinnt !); Eintritt frei !\n\nhttps://eventfrog.at/de/p/maerkte/sammlermarkt/52-internationale-mineralien-und-fossilienboerse-in-bonn-7451998224452193659.html
LOCATION:Aula der Johannes-Rau-Hauptschule, Schulzentrum Pennenfeld
GEO:50.675490;7.168890
URL:https://eventfrog.at/de/p/maerkte/sammlermarkt/52-internationale-mineralien-und-fossilienboerse-in-bonn-7451998224452193659.html
END:VEVENT
END:VCALENDAR