BEGIN:VCALENDAR
VERSION:2.0
PRODID:EVENTFROG//EVENT//ICAL
BEGIN:VEVENT
UID:20260424T072632Z-7451997469435540085@eventfrog.at
DTSTAMP:20260424T072632Z
DTSTART:20260520T130000Z
SUMMARY:Cinéma12 zeigt: Unterwegs nach Cold Mountain
DESCRIPTION:Ein desertierter Soldat riskiert im Bürgerkrieg alles, um zu seiner geliebten Ada auf der Farm in Cold Mountain zurückzukehren.\n\nhttps://eventfrog.at/de/p/diverses/cinema12-zeigt-unterwegs-nach-cold-mountain-7451997469435540085.html
LOCATION:Senioren Begegnungszentrum Baumgärtlihof
GEO:47.259083;8.599920
URL:https://eventfrog.at/de/p/diverses/cinema12-zeigt-unterwegs-nach-cold-mountain-7451997469435540085.html
END:VEVENT
END:VCALENDAR