BEGIN:VCALENDAR
VERSION:2.0
PRODID:EVENTFROG//EVENT//ICAL
BEGIN:VEVENT
UID:20260424T072701Z-7451994071181042476@eventfrog.at
DTSTAMP:20260424T072701Z
DTSTART:20260507T073000Z
DTEND:20260507T093000Z
SUMMARY:Hypnose Workshop: Krebspatient:Innen
DESCRIPTION:Andrea Meier bietet einen Workshop für Krebspatienten an, der durch Hypnose Selbstheilung, Ruhe und Kraft fördert.\n\nhttps://eventfrog.at/de/p/gesundheit-spiritualitaet/gesundheit-wohlbefinden/hypnose-workshop-krebspatient-innen-7451994071181042476.html
LOCATION:Ruum 8, Wädenswil
GEO:47.227448;8.674305
URL:https://eventfrog.at/de/p/gesundheit-spiritualitaet/gesundheit-wohlbefinden/hypnose-workshop-krebspatient-innen-7451994071181042476.html
END:VEVENT
END:VCALENDAR