BEGIN:VCALENDAR
VERSION:2.0
PRODID:EVENTFROG//EVENT//ICAL
BEGIN:VEVENT
UID:20260424T100022Z-7451988803974125661@eventfrog.at
DTSTAMP:20260424T100022Z
DTSTART:20261104T150000Z
DTEND:20261104T160000Z
SUMMARY:Ausstattung für die letzte Reise
DESCRIPTION:Themenführung in der Abegg-Stiftung mit Michèle Grieder, wiss. Mitarbeiterin\n\nhttps://eventfrog.at/de/p/fuehrungen-vortraege/fuehrung/ausstattung-fuer-die-letzte-reise-7451988803974125661.html
LOCATION:Abegg-Stiftung
GEO:46.815411;7.494730
URL:https://eventfrog.at/de/p/fuehrungen-vortraege/fuehrung/ausstattung-fuer-die-letzte-reise-7451988803974125661.html
END:VEVENT
END:VCALENDAR