BEGIN:VCALENDAR
VERSION:2.0
PRODID:EVENTFROG//EVENT//ICAL
BEGIN:VEVENT
UID:20260424T080041Z-7451984621057638046@eventfrog.at
DTSTAMP:20260424T080041Z
DTSTART:20260531T090000Z
DTEND:20260531T150000Z
SUMMARY:«HAP Grieshaber – Einschnitt  Ausdruck. Sammlung Würth»
DESCRIPTION:Das Forum Würth Arlesheim widmet HAP Grieshaber (1909–1981) mit «Einschnitt  Ausdruck» die erste Einzelausstellung aus der Sammlung Würth in der Schweiz.\n\nhttps://eventfrog.at/de/p/kunst-ausstellungen/ausstellung/hap-grieshaber-einschnitt-ausdruck-sammlung-wuerth-7451984621057638046.html
LOCATION:Forum Würth Arlesheim
GEO:47.497009;7.607158
URL:https://eventfrog.at/de/p/kunst-ausstellungen/ausstellung/hap-grieshaber-einschnitt-ausdruck-sammlung-wuerth-7451984621057638046.html
END:VEVENT
END:VCALENDAR