BEGIN:VCALENDAR
VERSION:2.0
PRODID:EVENTFROG//EVENT//ICAL
BEGIN:VEVENT
UID:20260424T072652Z-7451982861261893838@eventfrog.at
DTSTAMP:20260424T072652Z
DTSTART:20260725T120000Z
DTEND:20260725T200000Z
SUMMARY:WIR AM STROM
DESCRIPTION:DayDance direkt an der Limmat. \n\nhttps://eventfrog.at/de/p/partys/electro/wir-am-strom-7451982861261893838.html
LOCATION:Hönggerstrasse 45A
GEO:47.391650;8.524968
URL:https://eventfrog.at/de/p/partys/electro/wir-am-strom-7451982861261893838.html
END:VEVENT
END:VCALENDAR