BEGIN:VCALENDAR
VERSION:2.0
PRODID:EVENTFROG//EVENT//ICAL
BEGIN:VEVENT
UID:20260425T002352Z-7451971071543101269@eventfrog.at
DTSTAMP:20260425T002352Z
DTSTART:20260425T120000Z
DTEND:20260425T170000Z
SUMMARY:Sicherheit in Krisenzeiten - Vorsorge & Training
DESCRIPTION:Bereit für den Ernstfall statt überrascht zu werden.\nIn spannenden Trainingsszenarien lernen Sie, wie Sie sich selbst und Ihre Familie in Krisen schützen können.\n\nhttps://eventfrog.at/de/p/kurse-seminare/sonstige-kurse-seminare/sicherheit-in-krisenzeiten-vorsorge-training-7451971071543101269.html
LOCATION:Teisendorfer Str. 8
GEO:47.744583;12.903100
URL:https://eventfrog.at/de/p/kurse-seminare/sonstige-kurse-seminare/sicherheit-in-krisenzeiten-vorsorge-training-7451971071543101269.html
END:VEVENT
END:VCALENDAR