BEGIN:VCALENDAR
VERSION:2.0
PRODID:EVENTFROG//EVENT//ICAL
BEGIN:VEVENT
UID:20260424T105227Z-7451969015386266099@eventfrog.at
DTSTAMP:20260424T105227Z
DTSTART:20260519T180000Z
DTEND:20260519T203000Z
SUMMARY:Barbara Buser – Pionierin der Nachhaltigkeit
DESCRIPTION:.\n\nhttps://eventfrog.at/de/p/festivals/film/barbara-buser-pionierin-der-nachhaltigkeit-7451969015386266099.html
LOCATION:Kino Orient
GEO:47.470007;8.316611
URL:https://eventfrog.at/de/p/festivals/film/barbara-buser-pionierin-der-nachhaltigkeit-7451969015386266099.html
END:VEVENT
END:VCALENDAR