BEGIN:VCALENDAR
VERSION:2.0
PRODID:EVENTFROG//EVENT//ICAL
BEGIN:VEVENT
UID:20260424T195100Z-7451958796853725415@eventfrog.at
DTSTAMP:20260424T195100Z
DTSTART:20260622T170000Z
DTEND:20260622T180000Z
SUMMARY:Yin Yoga mit Karina
DESCRIPTION:Yin Yoga stärkt Bänder, Bindegewebe und Gelenke durch sanfte Dehnungen und basiert auf chinesischer Medizin zur Förderung von Gesundheit.\n\nhttps://eventfrog.at/de/p/gesundheit-spiritualitaet/gesundheit-wohlbefinden/yin-yoga-mit-karina-7451958796853725415.html
LOCATION:Kids&co Familienzentrum Maria Enzersdorf
GEO:48.100805;16.280810
URL:https://eventfrog.at/de/p/gesundheit-spiritualitaet/gesundheit-wohlbefinden/yin-yoga-mit-karina-7451958796853725415.html
END:VEVENT
END:VCALENDAR