BEGIN:VCALENDAR
VERSION:2.0
PRODID:EVENTFROG//EVENT//ICAL
BEGIN:VEVENT
UID:20260421T102602Z-7451953358217153791@eventfrog.at
DTSTAMP:20260421T102602Z
DTSTART:20260422T170000Z
SUMMARY:House Hopping  - 22/04/2026
DESCRIPTION:.\n\nhttps://eventfrog.at/fr/p/soirees-fetes/afterwork/house-hopping-22-04-2026-7451953358217153791.html
LOCATION:Uni Mail
GEO:46.194915;6.139871
URL:https://eventfrog.at/fr/p/soirees-fetes/afterwork/house-hopping-22-04-2026-7451953358217153791.html
END:VEVENT
END:VCALENDAR