BEGIN:VCALENDAR
VERSION:2.0
PRODID:EVENTFROG//EVENT//ICAL
BEGIN:VEVENT
UID:20260421T173028Z-7451917234585231880@eventfrog.at
DTSTAMP:20260421T173028Z
DTSTART:20260620T180000Z
DTEND:20260620T191500Z
SUMMARY:Tim Burton’s Universe by Mystery Ensemble
DESCRIPTION:Willkommen in den fantastischen Welten von Tim Burton! Wir laden Sie zu einer Reise durch die Musik ein, die Sie unvergesslich gemacht hat!\n\nhttps://eventfrog.at/en/p/classical-music-operas/classical-music/tim-burtons-universe-by-mystery-ensemble-7451917234585231880.html
LOCATION:Palais Pálffy
GEO:48.206156;16.367820
URL:https://eventfrog.at/en/p/classical-music-operas/classical-music/tim-burtons-universe-by-mystery-ensemble-7451917234585231880.html
END:VEVENT
END:VCALENDAR