BEGIN:VCALENDAR
VERSION:2.0
PRODID:EVENTFROG//EVENT//ICAL
BEGIN:VEVENT
UID:20260421T132352Z-7451915469647301789@eventfrog.at
DTSTAMP:20260421T132352Z
DTSTART:20260619T200000Z
DTEND:20260620T020000Z
SUMMARY:Ü30 Party Mainz – Grand Opening
DESCRIPTION:Die Ü30 Party startet am 19.06.26 im Roxy Mainz mit House, Pop, RnB und Klassikern ab 22 Uhr.\n\nhttps://eventfrog.at/de/p/partys/mottoparty/ue30-party-mainz-grand-opening-7451915469647301789.html
LOCATION:Roxy
GEO:49.998841;8.274880
URL:https://eventfrog.at/de/p/partys/mottoparty/ue30-party-mainz-grand-opening-7451915469647301789.html
END:VEVENT
END:VCALENDAR