BEGIN:VCALENDAR
VERSION:2.0
PRODID:EVENTFROG//EVENT//ICAL
BEGIN:VEVENT
UID:20260420T191351Z-7451886005353766680@eventfrog.at
DTSTAMP:20260420T191351Z
DTSTART:20260425T080000Z
DTEND:20260425T130000Z
SUMMARY:Hofflohmarkt 2026
DESCRIPTION:Hof- und Garagenflohmarkt im gesamten Dorf, ab 10 Uhr\n\nhttps://eventfrog.at/de/p/maerkte/flohmarkt/hofflohmarkt-2026-7451886005353766680.html
LOCATION:Hofflohmarkt Schachdorf Ströbeck
GEO:51.915910;10.941006
URL:https://eventfrog.at/de/p/maerkte/flohmarkt/hofflohmarkt-2026-7451886005353766680.html
END:VEVENT
END:VCALENDAR