BEGIN:VCALENDAR
VERSION:2.0
PRODID:EVENTFROG//EVENT//ICAL
BEGIN:VEVENT
UID:20260424T073220Z-7451827191665397890@eventfrog.at
DTSTAMP:20260424T073220Z
DTSTART:20270109T090000Z
DTEND:20270110T170000Z
SUMMARY:Grundlagen der energetischen Heilung, Teil 3/4 (Sa & So)
DESCRIPTION:Ganzheitliche Heilung: Der Weg zu deinem wahren Selbst\nHeilung erfordert eine harmonische Verbindung von Geist, Emotionen, Körper und Energie für nachhaltige Veränderung.\n\nhttps://eventfrog.at/de/p/gesundheit-spiritualitaet/gesundheit-wohlbefinden/grundlagen-der-energetischen-heilung-teil-3-4-sa-so-7451827191665397890.html
LOCATION:RUUM 8
GEO:47.227448;8.674305
URL:https://eventfrog.at/de/p/gesundheit-spiritualitaet/gesundheit-wohlbefinden/grundlagen-der-energetischen-heilung-teil-3-4-sa-so-7451827191665397890.html
END:VEVENT
END:VCALENDAR