BEGIN:VCALENDAR
VERSION:2.0
PRODID:EVENTFROG//EVENT//ICAL
BEGIN:VEVENT
UID:20260425T191909Z-7451754017175144600@eventfrog.at
DTSTAMP:20260425T191909Z
DTSTART:20260512T180000Z
SUMMARY:Bob Sumner
DESCRIPTION:Singer/Songwriter, Americana, Country, Folk.\n\nhttps://eventfrog.at/de/p/konzerte/bob-sumner-7451754017175144600.html
LOCATION:Lukas Bar
GEO:47.420128;9.378870
URL:https://eventfrog.at/de/p/konzerte/bob-sumner-7451754017175144600.html
END:VEVENT
END:VCALENDAR