BEGIN:VCALENDAR
VERSION:2.0
PRODID:EVENTFROG//EVENT//ICAL
BEGIN:VEVENT
UID:20260420T044736Z-7451754015346427972@eventfrog.at
DTSTAMP:20260420T044736Z
DTSTART:20260530T170000Z
SUMMARY:Young Rock & Pop
DESCRIPTION:Acht Bands, eine Bühne.\n\nhttps://eventfrog.at/de/p/konzerte/young-rock-pop-7451754015346427972.html
LOCATION:Zak
GEO:47.232050;8.834330
URL:https://eventfrog.at/de/p/konzerte/young-rock-pop-7451754015346427972.html
END:VEVENT
END:VCALENDAR