BEGIN:VCALENDAR
VERSION:2.0
PRODID:EVENTFROG//EVENT//ICAL
BEGIN:VEVENT
UID:20260424T072704Z-7451752140677091274@eventfrog.at
DTSTAMP:20260424T072704Z
DTSTART:20260521T183000Z
SUMMARY:ZauberEi und Musik
DESCRIPTION:Zauberer Hannes Vo Wald und Saxophonist Peter Lenzin.\n\nhttps://eventfrog.at/de/p/theater-buehne/zauberei-und-musik-7451752140677091274.html
LOCATION:Rest. Aglio & Olio
GEO:47.413209;9.440850
URL:https://eventfrog.at/de/p/theater-buehne/zauberei-und-musik-7451752140677091274.html
END:VEVENT
END:VCALENDAR