BEGIN:VCALENDAR
VERSION:2.0
PRODID:EVENTFROG//EVENT//ICAL
BEGIN:VEVENT
UID:20260420T044632Z-7451752071924049255@eventfrog.at
DTSTAMP:20260420T044632Z
DTSTART:20260515T220000Z
DTEND:20260719T215900Z
SUMMARY:Edition 5, Maja Bringolf, Vincent Kohler
DESCRIPTION:Edition 5, Maja Bringolf, Vincent Kohler\n\nhttps://eventfrog.at/de/p/kunst-ausstellungen/edition-5-maja-bringolf-vincent-kohler-7451752071924049255.html
LOCATION:Vebikus Kunsthalle Schaffhausen
GEO:47.694549;8.636361
URL:https://eventfrog.at/de/p/kunst-ausstellungen/edition-5-maja-bringolf-vincent-kohler-7451752071924049255.html
END:VEVENT
END:VCALENDAR