BEGIN:VCALENDAR
VERSION:2.0
PRODID:EVENTFROG//EVENT//ICAL
BEGIN:VEVENT
UID:20260420T075823Z-7451751715856991969@eventfrog.at
DTSTAMP:20260420T075823Z
DTSTART:20260507T180000Z
SUMMARY:What Is Jazz? – 37. Schaffhauser Jazzfestival
DESCRIPTION:Doku über Max Roach, Konzert Bernie Ruch.\n\nhttps://eventfrog.at/de/p/freizeit-ausfluege/what-is-jazz-37-schaffhauser-jazzfestival-7451751715856991969.html
LOCATION:TapTab
GEO:47.694535;8.636379
URL:https://eventfrog.at/de/p/freizeit-ausfluege/what-is-jazz-37-schaffhauser-jazzfestival-7451751715856991969.html
END:VEVENT
END:VCALENDAR