BEGIN:VCALENDAR
VERSION:2.0
PRODID:EVENTFROG//EVENT//ICAL
BEGIN:VEVENT
UID:20260424T090421Z-7451751613474019981@eventfrog.at
DTSTAMP:20260424T090421Z
DTSTART:20260502T100000Z
SUMMARY:Jassturnier
DESCRIPTION:Trumpf & Tonic.\n\nhttps://eventfrog.at/de/p/diverses/jassturnier-7451751613474019981.html
LOCATION:Werkstatt Chur
GEO:46.848620;9.530680
URL:https://eventfrog.at/de/p/diverses/jassturnier-7451751613474019981.html
END:VEVENT
END:VCALENDAR