BEGIN:VCALENDAR
VERSION:2.0
PRODID:EVENTFROG//EVENT//ICAL
BEGIN:VEVENT
UID:20260421T042854Z-7451751612773571207@eventfrog.at
DTSTAMP:20260421T042854Z
DTSTART:20260527T170000Z
SUMMARY:Küfa/Vokü
DESCRIPTION:Vegetarisches Essen für alle.\n\nhttps://eventfrog.at/de/p/diverses/kuefa-vokue-7451751612773571207.html
LOCATION:Rümpeltum
GEO:47.435662;9.394402
URL:https://eventfrog.at/de/p/diverses/kuefa-vokue-7451751612773571207.html
END:VEVENT
END:VCALENDAR