BEGIN:VCALENDAR
VERSION:2.0
PRODID:EVENTFROG//EVENT//ICAL
BEGIN:VEVENT
UID:20260424T090234Z-7451748571970304111@eventfrog.at
DTSTAMP:20260424T090234Z
DTSTART:20260430T200000Z
DTEND:20260501T050000Z
SUMMARY:DJ TENNIS  2M  PRIOLEAU
DESCRIPTION:DJ Tennis spielt an der Resonica Record Release Party im Kino Roland Zürich mit 2M und Prioleau.\n\nhttps://eventfrog.at/de/p/partys/house-techno/dj-tennis-2m-prioleau-7451748571970304111.html
LOCATION:Kino Roland
GEO:47.378900;8.527120
URL:https://eventfrog.at/de/p/partys/house-techno/dj-tennis-2m-prioleau-7451748571970304111.html
END:VEVENT
END:VCALENDAR