BEGIN:VCALENDAR
VERSION:2.0
PRODID:EVENTFROG//EVENT//ICAL
BEGIN:VEVENT
UID:20260422T195722Z-7451748312753941966@eventfrog.at
DTSTAMP:20260422T195722Z
DTSTART:20260511T183000Z
SUMMARY:Billie Eilish – Hit Me Hard and Soft: The Tour
DESCRIPTION:3D Konzerterlebnis der Welttournee.\n\nhttps://eventfrog.at/de/p/freizeit-ausfluege/billie-eilish-hit-me-hard-and-soft-the-tour-7451748312753941966.html
LOCATION:Cinewil
GEO:47.463280;9.041600
URL:https://eventfrog.at/de/p/freizeit-ausfluege/billie-eilish-hit-me-hard-and-soft-the-tour-7451748312753941966.html
END:VEVENT
END:VCALENDAR