BEGIN:VCALENDAR
VERSION:2.0
PRODID:EVENTFROG//EVENT//ICAL
BEGIN:VEVENT
UID:20260424T072731Z-7451748254427941776@eventfrog.at
DTSTAMP:20260424T072731Z
DTSTART:20260528T180000Z
SUMMARY:Aki Takase
DESCRIPTION:360° Konzertreihe, Jazz.\n\nhttps://eventfrog.at/de/p/konzerte/aki-takase-7451748254427941776.html
LOCATION:Kammgarn
GEO:47.695890;8.638049
URL:https://eventfrog.at/de/p/konzerte/aki-takase-7451748254427941776.html
END:VEVENT
END:VCALENDAR