BEGIN:VCALENDAR
VERSION:2.0
PRODID:EVENTFROG//EVENT//ICAL
BEGIN:VEVENT
UID:20260420T033503Z-7451736594669672891@eventfrog.at
DTSTAMP:20260420T033503Z
DTSTART:20260613T180000Z
DTEND:20260613T200000Z
SUMMARY:Stimmungsvolle Abendführung Salzburg
DESCRIPTION:Erleben Sie die Salzburgs Altstadt mit ihren traumhaften Fassaden, schönsten Gassen und beeindruckendsten Plätzen entspannt und in einer ganz besonderen Atmosphäre. \n\nhttps://eventfrog.at/de/p/fuehrungen-vortraege/fuehrung/stimmungsvolle-abendfuehrung-salzburg-7451736594669672891.html
LOCATION:Eingang Schloss Mirabell
GEO:47.805304;13.043195
URL:https://eventfrog.at/de/p/fuehrungen-vortraege/fuehrung/stimmungsvolle-abendfuehrung-salzburg-7451736594669672891.html
END:VEVENT
END:VCALENDAR